BEGIN:VCALENDAR
VERSION:2.0
PRODID:-//For Good Media - ECPv4.8.2//NONSGML v1.0//EN
CALSCALE:GREGORIAN
METHOD:PUBLISH
X-WR-CALNAME:For Good Media
X-ORIGINAL-URL:https://forgoodmedia.com
X-WR-CALDESC:Events for For Good Media
BEGIN:VEVENT
DTSTART;TZID=UTC-4:20141129T090000
DTEND;TZID=UTC-4:20141129T140000
DTSTAMP:20260421T111542
CREATED:20140923T175524Z
LAST-MODIFIED:20141106T020958Z
UID:182-1417251600-1417269600@forgoodmedia.com
SUMMARY:Book Signing at Sharonville Holiday Market
DESCRIPTION:22nd Holiday Flier 2014 \nFree Admission! \nPlease follow and like us:
URL:https://forgoodmedia.com/event/sharonville-holiday-market/
ATTACH;FMTTYPE=image/jpeg:https://forgoodmedia.com/wp-content/uploads/2014/09/Sville.jpg
END:VEVENT
END:VCALENDAR