BEGIN:VCALENDAR
VERSION:2.0
PRODID:-//For Good Media - ECPv4.8.2//NONSGML v1.0//EN
CALSCALE:GREGORIAN
METHOD:PUBLISH
X-WR-CALNAME:For Good Media
X-ORIGINAL-URL:https://forgoodmedia.com
X-WR-CALDESC:Events for For Good Media
BEGIN:VEVENT
DTSTART;TZID=UTC-4:20141118T180000
DTEND;TZID=UTC-4:20141118T210000
DTSTAMP:20260421T082115
CREATED:20141026T150313Z
LAST-MODIFIED:20141026T150313Z
UID:302-1416333600-1416344400@forgoodmedia.com
SUMMARY:Five Seasons Book Signing
DESCRIPTION:We are honored to have been invited to the Five Season Ladies Night! \nPlease follow and like us:
URL:https://forgoodmedia.com/event/five-seasons-book-signing/
ATTACH;FMTTYPE=image/png:https://forgoodmedia.com/wp-content/uploads/2014/09/PiperHawkins.png
END:VEVENT
END:VCALENDAR