BEGIN:VCALENDAR
VERSION:2.0
PRODID:-//For Good Media - ECPv4.8.2//NONSGML v1.0//EN
CALSCALE:GREGORIAN
METHOD:PUBLISH
X-WR-CALNAME:For Good Media
X-ORIGINAL-URL:https://forgoodmedia.com
X-WR-CALDESC:Events for For Good Media
BEGIN:VEVENT
DTSTART;TZID=UTC-4:20170401T150000
DTEND;TZID=UTC-4:20170401T200000
DTSTAMP:20260420T051655
CREATED:20170329T111259Z
LAST-MODIFIED:20170329T111342Z
UID:996-1491058800-1491076800@forgoodmedia.com
SUMMARY:Book Signing - Bake Me Home Boutique
DESCRIPTION:Join us for great shopping\, live music\, delicious food\, and a fantastic silent auction\, all while supporting our military and local families in crisis. \nAll guests are welcome\, no advance tickets required\, just a $20 donation at the door for adults. \nAll of our local vendors support our mission by donating a portion of your evening’s purchases back to Bake Me Home. This\, along with your $20 donation\, goes to support our local programming. \nHope to see you there! \n  \nPlease follow and like us:
URL:https://forgoodmedia.com/event/book-signing-bake-me-home-boutique/
END:VEVENT
END:VCALENDAR